BEGIN:VCALENDAR
VERSION:2.0
PRODID:-//die Vertriebenen - ECPv6.15.17//NONSGML v1.0//EN
CALSCALE:GREGORIAN
METHOD:PUBLISH
X-ORIGINAL-URL:https://die-vertriebenen.com
X-WR-CALDESC:Veranstaltungen für die Vertriebenen
REFRESH-INTERVAL;VALUE=DURATION:PT1H
X-Robots-Tag:noindex
X-PUBLISHED-TTL:PT1H
BEGIN:VTIMEZONE
TZID:Europe/Berlin
BEGIN:DAYLIGHT
TZOFFSETFROM:+0100
TZOFFSETTO:+0200
TZNAME:CEST
DTSTART:20250330T010000
END:DAYLIGHT
BEGIN:STANDARD
TZOFFSETFROM:+0200
TZOFFSETTO:+0100
TZNAME:CET
DTSTART:20251026T010000
END:STANDARD
BEGIN:DAYLIGHT
TZOFFSETFROM:+0100
TZOFFSETTO:+0200
TZNAME:CEST
DTSTART:20260329T010000
END:DAYLIGHT
BEGIN:STANDARD
TZOFFSETFROM:+0200
TZOFFSETTO:+0100
TZNAME:CET
DTSTART:20261025T010000
END:STANDARD
BEGIN:DAYLIGHT
TZOFFSETFROM:+0100
TZOFFSETTO:+0200
TZNAME:CEST
DTSTART:20270328T010000
END:DAYLIGHT
BEGIN:STANDARD
TZOFFSETFROM:+0200
TZOFFSETTO:+0100
TZNAME:CET
DTSTART:20271031T010000
END:STANDARD
END:VTIMEZONE
BEGIN:VEVENT
DTSTART;VALUE=DATE:20260521
DTEND;VALUE=DATE:20260525
DTSTAMP:20260421T123130
CREATED:20251031T135422Z
LAST-MODIFIED:20251031T135422Z
UID:1755-1779321600-1779667199@die-vertriebenen.com
SUMMARY:Wikinger in Eekholt
DESCRIPTION:Erneut nisten die Wikinger sich über das lange Himmelfahrtswochenende im wunderschönen Tierpark Eekholt ein und wir dürfen wieder dabei sein. \nWissenswertes\, Natur und Unterhaltung – die besten Voraussetzungen für einen rundum gelungenen Ausflug!
URL:https://die-vertriebenen.com/event/wikinger-in-eekholt-6/
LOCATION:Wildpark Eekholt\, Eekholt 1\, Großenaspe\, Schleswig-Holstein\, 24623\, Deutschland
END:VEVENT
END:VCALENDAR