BEGIN:VCALENDAR
VERSION:2.0
PRODID:-//die Vertriebenen - ECPv6.15.17//NONSGML v1.0//EN
CALSCALE:GREGORIAN
METHOD:PUBLISH
X-ORIGINAL-URL:https://die-vertriebenen.com
X-WR-CALDESC:Veranstaltungen für die Vertriebenen
REFRESH-INTERVAL;VALUE=DURATION:PT1H
X-Robots-Tag:noindex
X-PUBLISHED-TTL:PT1H
BEGIN:VTIMEZONE
TZID:Europe/Berlin
BEGIN:DAYLIGHT
TZOFFSETFROM:+0100
TZOFFSETTO:+0200
TZNAME:CEST
DTSTART:20170326T010000
END:DAYLIGHT
BEGIN:STANDARD
TZOFFSETFROM:+0200
TZOFFSETTO:+0100
TZNAME:CET
DTSTART:20171029T010000
END:STANDARD
BEGIN:DAYLIGHT
TZOFFSETFROM:+0100
TZOFFSETTO:+0200
TZNAME:CEST
DTSTART:20180325T010000
END:DAYLIGHT
BEGIN:STANDARD
TZOFFSETFROM:+0200
TZOFFSETTO:+0100
TZNAME:CET
DTSTART:20181028T010000
END:STANDARD
BEGIN:DAYLIGHT
TZOFFSETFROM:+0100
TZOFFSETTO:+0200
TZNAME:CEST
DTSTART:20190331T010000
END:DAYLIGHT
BEGIN:STANDARD
TZOFFSETFROM:+0200
TZOFFSETTO:+0100
TZNAME:CET
DTSTART:20191027T010000
END:STANDARD
BEGIN:DAYLIGHT
TZOFFSETFROM:+0100
TZOFFSETTO:+0200
TZNAME:CEST
DTSTART:20200329T010000
END:DAYLIGHT
BEGIN:STANDARD
TZOFFSETFROM:+0200
TZOFFSETTO:+0100
TZNAME:CET
DTSTART:20201025T010000
END:STANDARD
BEGIN:DAYLIGHT
TZOFFSETFROM:+0100
TZOFFSETTO:+0200
TZNAME:CEST
DTSTART:20210328T010000
END:DAYLIGHT
BEGIN:STANDARD
TZOFFSETFROM:+0200
TZOFFSETTO:+0100
TZNAME:CET
DTSTART:20211031T010000
END:STANDARD
BEGIN:DAYLIGHT
TZOFFSETFROM:+0100
TZOFFSETTO:+0200
TZNAME:CEST
DTSTART:20220327T010000
END:DAYLIGHT
BEGIN:STANDARD
TZOFFSETFROM:+0200
TZOFFSETTO:+0100
TZNAME:CET
DTSTART:20221030T010000
END:STANDARD
BEGIN:DAYLIGHT
TZOFFSETFROM:+0100
TZOFFSETTO:+0200
TZNAME:CEST
DTSTART:20230326T010000
END:DAYLIGHT
BEGIN:STANDARD
TZOFFSETFROM:+0200
TZOFFSETTO:+0100
TZNAME:CET
DTSTART:20231029T010000
END:STANDARD
BEGIN:DAYLIGHT
TZOFFSETFROM:+0100
TZOFFSETTO:+0200
TZNAME:CEST
DTSTART:20240331T010000
END:DAYLIGHT
BEGIN:STANDARD
TZOFFSETFROM:+0200
TZOFFSETTO:+0100
TZNAME:CET
DTSTART:20241027T010000
END:STANDARD
BEGIN:DAYLIGHT
TZOFFSETFROM:+0100
TZOFFSETTO:+0200
TZNAME:CEST
DTSTART:20250330T010000
END:DAYLIGHT
BEGIN:STANDARD
TZOFFSETFROM:+0200
TZOFFSETTO:+0100
TZNAME:CET
DTSTART:20251026T010000
END:STANDARD
BEGIN:DAYLIGHT
TZOFFSETFROM:+0100
TZOFFSETTO:+0200
TZNAME:CEST
DTSTART:20260329T010000
END:DAYLIGHT
BEGIN:STANDARD
TZOFFSETFROM:+0200
TZOFFSETTO:+0100
TZNAME:CET
DTSTART:20261025T010000
END:STANDARD
BEGIN:DAYLIGHT
TZOFFSETFROM:+0100
TZOFFSETTO:+0200
TZNAME:CEST
DTSTART:20270328T010000
END:DAYLIGHT
BEGIN:STANDARD
TZOFFSETFROM:+0200
TZOFFSETTO:+0100
TZNAME:CET
DTSTART:20271031T010000
END:STANDARD
END:VTIMEZONE
BEGIN:VEVENT
DTSTART;VALUE=DATE:20260411
DTEND;VALUE=DATE:20260413
DTSTAMP:20260421T105827
CREATED:20260306T131819Z
LAST-MODIFIED:20260306T131819Z
UID:1809-1775865600-1776038399@die-vertriebenen.com
SUMMARY:Seespectaculum zu Brietlingen
DESCRIPTION:Und so startet unsere Saison wieder einmal in Brietlingen!
URL:https://die-vertriebenen.com/event/seespectaculum-zu-brietlingen-3/
LOCATION:Reihersee\, Auf den Bergen\, Brietlingen\, 21383\, Deutschland
CATEGORIES:Mittelaltermarkt
END:VEVENT
BEGIN:VEVENT
DTSTART;TZID=Europe/Berlin:20240913T150000
DTEND;TZID=Europe/Berlin:20240915T180000
DTSTAMP:20260421T105827
CREATED:20240908T163306Z
LAST-MODIFIED:20240909T120853Z
UID:1510-1726239600-1726423200@die-vertriebenen.com
SUMMARY:Spectaculum Mulne
DESCRIPTION:Ein letztes Mal in diesem Jahr\, aber ein erstes Mal auf dem Spectaculum Mulne. \nWir freuen uns auf unsere erste Teilnahme am großartigen Mittelalterfest in Mölln. Großartige Kollegen\, Künstler\, Gaukler\, Musiker und wie immer noch viel mehr erwartet Euch. \nDen Spielplan findet Ihr unter https://www.spektakulum-mulne.de/programm/ablauf \nKommt zuhauf! Wir freuen uns!
URL:https://die-vertriebenen.com/event/spectaculum-mulne/
LOCATION:Kurpark Mölln\, Bergstraße\, Mölln\, 23879\, Germany
CATEGORIES:Mittelaltermarkt
END:VEVENT
BEGIN:VEVENT
DTSTART;VALUE=DATE:20240706
DTEND;VALUE=DATE:20240708
DTSTAMP:20260421T105827
CREATED:20240909T115133Z
LAST-MODIFIED:20240909T120722Z
UID:1526-1720224000-1720396799@die-vertriebenen.com
SUMMARY:Wikingerspektakel zu Damp
DESCRIPTION:Wilde Wikinger und feierfröhliches Publikum? Da sind wir nur zu gern dabei! Dieses Jahr zum ersten Mal inlands\, da die Natur leider ein großes Stück der Promenade weggebissen hat.
URL:https://die-vertriebenen.com/event/wikingerspektakel-zu-damp/
LOCATION:Osteebad Damp\, Damp\, Schleswig-Holstein\, 24351\, Germany
CATEGORIES:Mittelaltermarkt
END:VEVENT
BEGIN:VEVENT
DTSTART;VALUE=DATE:20240601
DTEND;VALUE=DATE:20240603
DTSTAMP:20260421T105827
CREATED:20240909T114114Z
LAST-MODIFIED:20251031T135012Z
UID:1524-1717200000-1717372799@die-vertriebenen.com
SUMMARY:Mengeder Mittelalterlich Gaudium Moselbachpark Waltrop in Waltrop
DESCRIPTION:Und wieder dürfen wir im “tiefen Süden” zu diesem Gaudium aufspielen. Wir freuen uns sehr und scheinen irgend etwas richtig gemacht zu haben! \nKommt vorbei – der Eintritt ist frei!
URL:https://die-vertriebenen.com/event/mengeder-mittelalterlich-gaudium-moselbachpark-waltrop-in-waltrop-2/
LOCATION:Moselbachpark\, Bahnhofstraße\, Waltrop\, Nordrhein- Westfalen\, 45731\, Deutschland
CATEGORIES:Mittelaltermarkt
END:VEVENT
BEGIN:VEVENT
DTSTART;VALUE=DATE:20240509
DTEND;VALUE=DATE:20240513
DTSTAMP:20260421T105827
CREATED:20240909T113807Z
LAST-MODIFIED:20240909T113807Z
UID:1522-1715212800-1715558399@die-vertriebenen.com
SUMMARY:Wikinger in Eekholt
DESCRIPTION:Erneut nisten die Wikinger sich über das lange Himmelfahrtswochenende im wunderschönen Tierpark Eekholt ein und wir dürfen wieder dabei sein. \nWissenswertes\, Natur und Unterhaltung – die besten Voraussetzungen für einen rundum gelungenen Ausflug!
URL:https://die-vertriebenen.com/event/wikinger-in-eekholt-5/
LOCATION:Wildpark Eekholt\, Eekholt 1\, Großenaspe\, Schleswig-Holstein\, 24623\, Deutschland
CATEGORIES:Mittelaltermarkt
END:VEVENT
BEGIN:VEVENT
DTSTART;VALUE=DATE:20240406
DTEND;VALUE=DATE:20240408
DTSTAMP:20260421T105827
CREATED:20240909T113640Z
LAST-MODIFIED:20240909T113640Z
UID:1520-1712361600-1712534399@die-vertriebenen.com
SUMMARY:Seespectaculum zu Brietlingen
DESCRIPTION:Und so startet – wie gewohnt – unserer Saison in Brietlingen!
URL:https://die-vertriebenen.com/event/seespectaculum-zu-brietlingen-2/
LOCATION:Reihersee\, Auf den Bergen\, Brietlingen\, 21383\, Deutschland
CATEGORIES:Mittelaltermarkt
END:VEVENT
BEGIN:VEVENT
DTSTART;VALUE=DATE:20230819
DTEND;VALUE=DATE:20230821
DTSTAMP:20260421T105827
CREATED:20230213T120434Z
LAST-MODIFIED:20230213T120434Z
UID:1463-1692403200-1692575999@die-vertriebenen.com
SUMMARY:Elbspectaculum zu Stove
DESCRIPTION:Dieser Markt darf in unserem Kalender einfach nicht fehlen.
URL:https://die-vertriebenen.com/event/elbspectaculum-zu-stove-3/
LOCATION:Stover Strand\, Stover Strand 7\, Drage/Winsen (Luhe)\, 21423
END:VEVENT
BEGIN:VEVENT
DTSTART;VALUE=DATE:20230610
DTEND;VALUE=DATE:20230612
DTSTAMP:20260421T105827
CREATED:20230213T120105Z
LAST-MODIFIED:20230213T120105Z
UID:1459-1686355200-1686527999@die-vertriebenen.com
SUMMARY:Mengeder Mittelalterlich Gaudium Moselbachpark Waltrop in Waltrop
DESCRIPTION:Zum ersten Mal dürfen wir zu diesem Gaudium aufspielen und freuen uns\, auch mal in den “tiefen Süden” zu reisen.
URL:https://die-vertriebenen.com/event/mengeder-mittelalterlich-gaudium-moselbachpark-waltrop-in-waltrop/
LOCATION:Moselbachpark\, Bahnhofstraße\, Waltrop\, Nordrhein- Westfalen\, 45731\, Deutschland
CATEGORIES:Mittelaltermarkt
END:VEVENT
BEGIN:VEVENT
DTSTART;VALUE=DATE:20230518
DTEND;VALUE=DATE:20230522
DTSTAMP:20260421T105827
CREATED:20230213T114837Z
LAST-MODIFIED:20230213T114837Z
UID:1457-1684368000-1684713599@die-vertriebenen.com
SUMMARY:Wikinger in Eekholt
DESCRIPTION:Erneut nisten die Wikinger sich über das lange Himmelfahrtswochenende im wunderschönen Tierpark Eekholt ein und wir dürfen wieder dabei sein. \nWissenswertes\, Natur und Unterhaltung – die besten Voraussetzungen für einen rundum gelungenen Ausflug!
URL:https://die-vertriebenen.com/event/wikinger-in-eekholt-4/
LOCATION:Wildpark Eekholt\, Eekholt 1\, Großenaspe\, Schleswig-Holstein\, 24623\, Deutschland
CATEGORIES:Mittelaltermarkt
END:VEVENT
BEGIN:VEVENT
DTSTART;VALUE=DATE:20220917
DTEND;VALUE=DATE:20220919
DTSTAMP:20260421T105827
CREATED:20220219T105400Z
LAST-MODIFIED:20220219T105400Z
UID:1367-1663372800-1663545599@die-vertriebenen.com
SUMMARY:Elbspectaculum zu Stove
DESCRIPTION:Dieses Fest ist nun schon legendär\, ist und bleibt für uns ein Highlight des Jahres.
URL:https://die-vertriebenen.com/event/elbspectaculum-zu-stove-2/
LOCATION:Stover Strand\, Stover Strand 7\, Drage/Winsen (Luhe)\, 21423
CATEGORIES:Mittelaltermarkt
END:VEVENT
BEGIN:VEVENT
DTSTART;VALUE=DATE:20220813
DTEND;VALUE=DATE:20220815
DTSTAMP:20260421T105827
CREATED:20220802T144327Z
LAST-MODIFIED:20220802T144327Z
UID:1404-1660348800-1660521599@die-vertriebenen.com
SUMMARY:Schlossfest zu Bleckede
DESCRIPTION:Zu unserer freudigen Überraschung dürfen wir auch dieses Jahr wieder in Bleckede aufspielen! Wir hoffen\, Euch nach dieser langen Durststrecken dort in Massen begrüßen zu dürfen!
URL:https://die-vertriebenen.com/event/schlossfest-zu-bleckede/
LOCATION:Elbschloss Bleckede\, Schlossstraße 10\, Bleckede\, 21354
END:VEVENT
BEGIN:VEVENT
DTSTART;VALUE=DATE:20220526
DTEND;VALUE=DATE:20220530
DTSTAMP:20260421T105827
CREATED:20220405T164500Z
LAST-MODIFIED:20220405T164543Z
UID:1391-1653523200-1653868799@die-vertriebenen.com
SUMMARY:Wikinger in Eekholt
DESCRIPTION:Endlich ist es wieder soweit – die Wikinger nisten sich erneut über das lange Himmelfahrtswochenende im wunderschönen Tierpark Eekholt ein und wir dürfen wieder dabei sein. Zu dem dieses Jahr endlich stattfindenden zehnjährigen Jubiläum der Wikinger in Eekholt werden uns voraussichtlich sogar noch weitere Künstler und Gaukler unterstützen. \nWissenswertes\, Natur und Unterhaltung – die besten Voraussetzungen für einen rundum gelungenen Ausflug!
URL:https://die-vertriebenen.com/event/wikinger-in-eekholt-3/
LOCATION:Wildpark Eekholt\, Eekholt 1\, Großenaspe\, Schleswig-Holstein\, 24623\, Deutschland
CATEGORIES:Mittelaltermarkt
END:VEVENT
BEGIN:VEVENT
DTSTART;VALUE=DATE:20220402
DTEND;VALUE=DATE:20220404
DTSTAMP:20260421T105827
CREATED:20220219T104603Z
LAST-MODIFIED:20220219T104603Z
UID:1361-1648857600-1649030399@die-vertriebenen.com
SUMMARY:Seespectaculum zu Brietlingen
DESCRIPTION:Soll es tatsächlich sein? Geht es wirklich wieder los? Wir feiern mit Euch ein großes Fest und ertränken die Plage im Met.
URL:https://die-vertriebenen.com/event/seespectaculum-zu-brietlingen/
LOCATION:Reihersee\, Auf den Bergen\, Brietlingen\, 21383\, Deutschland
CATEGORIES:Mittelaltermarkt
END:VEVENT
BEGIN:VEVENT
DTSTART;VALUE=DATE:20200926
DTEND;VALUE=DATE:20200928
DTSTAMP:20260421T105827
CREATED:20200112T094254Z
LAST-MODIFIED:20200521T093121Z
UID:1157-1601078400-1601251199@die-vertriebenen.com
SUMMARY:NEUER TERMIN! Elbspectaculum zu Stove
DESCRIPTION:Höher\, schneller\, weiter\, Stove. Wer noch vor zehn Jahren das “Fest des Drachen darselbst” gerne besucht hat und nun mein\, früher war alles familiärer\, der ist in Stove genau richtig. Die passende Mischung aus Großveranstaltung und mukkeliger Atmosphäre. Alle mit allen “zusammener”.
URL:https://die-vertriebenen.com/event/elbspectaculum-zu-stove/
LOCATION:Stover Strand\, Stover Strand 7\, Drage/Winsen (Luhe)\, 21423
CATEGORIES:Mittelaltermarkt
END:VEVENT
BEGIN:VEVENT
DTSTART;VALUE=DATE:20200926
DTEND;VALUE=DATE:20200927
DTSTAMP:20260421T105827
CREATED:20200112T095047Z
LAST-MODIFIED:20200521T093202Z
UID:1141-1601078400-1601164799@die-vertriebenen.com
SUMMARY:Brauereifest Wittorfer
DESCRIPTION:Hoch die Tassen! Spielleute in eine Brauerei einzuladen ist so\, als würde man…..als würde man….ja was? Es ist auf jeden Fall ein Garant für einen feucht-fröhlichen Abend. Lasst uns zusammen alle Biersorten “testen” und die Speisekammer leer futtern.
URL:https://die-vertriebenen.com/event/brauereifest-wittorfer/
CATEGORIES:Clubgig
END:VEVENT
BEGIN:VEVENT
DTSTART;VALUE=DATE:20200808
DTEND;VALUE=DATE:20200810
DTSTAMP:20260421T105827
CREATED:20200112T093732Z
LAST-MODIFIED:20200521T091908Z
UID:1156-1596844800-1597017599@die-vertriebenen.com
SUMMARY:ABGESAGT Historisches Schlossfest zu Bleckede
DESCRIPTION:Der Parkt ist einfach bei jedem Wetter herrlich und gefeiert wird\, bis keiner mehr den Ausgang findet.
URL:https://die-vertriebenen.com/event/historisches-schlossfest-zu-bleckede-2/
LOCATION:Elbschloss Bleckede\, Schlossstraße 10\, Bleckede\, 21354
CATEGORIES:Mittelaltermarkt
END:VEVENT
BEGIN:VEVENT
DTSTART;VALUE=DATE:20200605
DTEND;VALUE=DATE:20200608
DTSTAMP:20260421T105827
CREATED:20200112T093156Z
LAST-MODIFIED:20200521T091839Z
UID:1155-1591315200-1591574399@die-vertriebenen.com
SUMMARY:ABGESAGT Stadtfest zu Kaltenkirchen
DESCRIPTION:In den letzten Jahren\, spielten wir als Exot auf einer “normalen” Bühne. In diesem Jahr sind wir das erste mal auf einer Bühne\, um die ein mittelalterlicher Markt gebaut wurde. 😉
URL:https://die-vertriebenen.com/event/stadtfest-zu-kaltenkirchen/
CATEGORIES:Mittelaltermarkt
END:VEVENT
BEGIN:VEVENT
DTSTART;VALUE=DATE:20200521
DTEND;VALUE=DATE:20200525
DTSTAMP:20260421T105827
CREATED:20200112T092245Z
LAST-MODIFIED:20200521T091754Z
UID:1154-1590019200-1590364799@die-vertriebenen.com
SUMMARY:ABGESAGT Zehn Jahre Wikinger in Eekholt
DESCRIPTION:Große Jubiläumsfeier mit exquisiten Gästen die da sind……. \n– Robert Blake:  https://www.facebook.com/robert.blake.524 \n-Immernochfrank: https://www.facebook.com/immernochfrank.dergaukler \n– Waldtraene: https://www.facebook.com/Waldtraene-117490615021999/  \nEs ist einfach einer der schönsten Märkte im Land und der umliegende Tierpark lädt zum wandern und entdecken ein. Wer weiß…..vielleicht heulen auch die Wölf für euch.
URL:https://die-vertriebenen.com/event/zehn-jahre-wikinger-in-eekholt/
LOCATION:Wildpark Eekholt\, Eekholt 1\, Großenaspe\, Schleswig-Holstein\, 24623\, Deutschland
CATEGORIES:Mittelaltermarkt
END:VEVENT
BEGIN:VEVENT
DTSTART;VALUE=DATE:20200516
DTEND;VALUE=DATE:20200518
DTSTAMP:20260421T105827
CREATED:20200112T091026Z
LAST-MODIFIED:20200521T091724Z
UID:1153-1589587200-1589759999@die-vertriebenen.com
SUMMARY:ABGESAGT Mittelalterfest zu Delingsdorf
DESCRIPTION:Für uns Neuland und wir sind total gespannt. Helft ihr uns\, dass wir uns dort wohl fühlen?
URL:https://die-vertriebenen.com/event/mittelalterfest-zu-delingsdorf/
LOCATION:Delingsdorf\, Lohe 44\, Delingsdorf\, 22941
CATEGORIES:Mittelaltermarkt
END:VEVENT
BEGIN:VEVENT
DTSTART;TZID=Europe/Berlin:20190810T080000
DTEND;TZID=Europe/Berlin:20190811T170000
DTSTAMP:20260421T105827
CREATED:20190613T064546Z
LAST-MODIFIED:20190613T064546Z
UID:1150-1565424000-1565542800@die-vertriebenen.com
SUMMARY:Historisches Schlossfest zu Bleckede
DESCRIPTION:
URL:https://die-vertriebenen.com/event/historisches-schlossfest-zu-bleckede/
LOCATION:Elbschloss Bleckede\, Schlossstraße 10\, Bleckede\, 21354
END:VEVENT
BEGIN:VEVENT
DTSTART;TZID=Europe/Berlin:20190727T120000
DTEND;TZID=Europe/Berlin:20190728T180000
DTSTAMP:20260421T105827
CREATED:20190613T063649Z
LAST-MODIFIED:20190613T063649Z
UID:1149-1564228800-1564336800@die-vertriebenen.com
SUMMARY:Bovelmarkt zu Bassum
DESCRIPTION:
URL:https://die-vertriebenen.com/event/bovelmarkt-zu-bassum-2/
LOCATION:An der Freudenburg\, Amtsfreiheit 1a\, Bassum\, 27211\, Deutschland
END:VEVENT
BEGIN:VEVENT
DTSTART;VALUE=DATE:20190615
DTEND;VALUE=DATE:20190616
DTSTAMP:20260421T105827
CREATED:20190127T122242Z
LAST-MODIFIED:20190127T122242Z
UID:1147-1560556800-1560556800@die-vertriebenen.com
SUMMARY:Private Veranstaltung
DESCRIPTION:
URL:https://die-vertriebenen.com/event/private-veranstaltung/
END:VEVENT
BEGIN:VEVENT
DTSTART;VALUE=DATE:20190530
DTEND;VALUE=DATE:20190603
DTSTAMP:20260421T105827
CREATED:20190127T122114Z
LAST-MODIFIED:20190127T122114Z
UID:1146-1559174400-1559519999@die-vertriebenen.com
SUMMARY:Wikinger in Eekholt
DESCRIPTION:
URL:https://die-vertriebenen.com/event/wikinger-in-eekholt-2/
LOCATION:Wildpark Eekholt\, Eekholt 1\, Großenaspe\, Schleswig-Holstein\, 24623\, Deutschland
END:VEVENT
BEGIN:VEVENT
DTSTART;VALUE=DATE:20190427
DTEND;VALUE=DATE:20190429
DTSTAMP:20260421T105827
CREATED:20190127T121646Z
LAST-MODIFIED:20190127T121646Z
UID:1145-1556323200-1556495999@die-vertriebenen.com
SUMMARY:Mittelalterfest zu Wedel
DESCRIPTION:
URL:https://die-vertriebenen.com/event/mittelalterfest-zu-wedel/
CATEGORIES:Mittelaltermarkt
END:VEVENT
BEGIN:VEVENT
DTSTART;VALUE=DATE:20190406
DTEND;VALUE=DATE:20190408
DTSTAMP:20260421T105827
CREATED:20190328T174115Z
LAST-MODIFIED:20190328T174115Z
UID:1148-1554508800-1554681599@die-vertriebenen.com
SUMMARY:Seespectacel Brietlingen
DESCRIPTION:Saisonstart am schönen Reihersee in der Nähe von Lüneburg – wir freuen uns schon sehr! \n“Die Marktvagabunden reisen wieder mit zahlreichen Händlern\, Handwerkern\, Tavernen\, gemütlichen Schenken\, Brätereien\, und allerley Unterhaltung an und bringen große wie kleine Menschen in Verzückung\, wenn der Vater einmal wieder Kind sein darf und in einen Harnisch schlüpft\, die Mama sich in mittelalterlichen Kleidern ausprobiert und die Kindlein beim Axtwerfen Mut und Geschick erproben.”
URL:https://die-vertriebenen.com/event/seespectacel-brietlingen-2/
LOCATION:Reihersee\, Auf den Bergen\, Brietlingen\, 21383\, Deutschland
END:VEVENT
BEGIN:VEVENT
DTSTART;VALUE=DATE:20180922
DTEND;VALUE=DATE:20180924
DTSTAMP:20260421T105827
CREATED:20160116T114708Z
LAST-MODIFIED:20160116T114708Z
UID:485-1537574400-1537747199@die-vertriebenen.com
SUMMARY:Elb-Spectaculum zu Stove
DESCRIPTION:
URL:https://die-vertriebenen.com/event/elb-spectaculum-zu-stove/
LOCATION:Stover Strand\, Stover Strand 7\, Drage/Winsen (Luhe)\, 21423
CATEGORIES:Mittelaltermarkt
END:VEVENT
BEGIN:VEVENT
DTSTART;TZID=Europe/Berlin:20180908T110000
DTEND;TZID=Europe/Berlin:20180909T180000
DTSTAMP:20260421T105827
CREATED:20180212T165659Z
LAST-MODIFIED:20180212T165659Z
UID:665-1536404400-1536516000@die-vertriebenen.com
SUMMARY:Großenasper Heerweg Markt
DESCRIPTION:
URL:https://die-vertriebenen.com/event/grossenasper-heerweg-markt/
LOCATION:t.b.a.\, Großenaspe\, 24623
END:VEVENT
BEGIN:VEVENT
DTSTART;VALUE=DATE:20180811
DTEND;VALUE=DATE:20180813
DTSTAMP:20260421T105827
CREATED:20170226T110511Z
LAST-MODIFIED:20170226T110511Z
UID:629-1533945600-1534118399@die-vertriebenen.com
SUMMARY:Historisches Schloßfest zu Bleckede
DESCRIPTION:
URL:https://die-vertriebenen.com/event/historisches-schlossfest-2/
LOCATION:Elbschloss Bleckede\, Schlossstraße 10\, Bleckede\, 21354
CATEGORIES:Mittelaltermarkt
END:VEVENT
BEGIN:VEVENT
DTSTART;TZID=Europe/Berlin:20180728T120000
DTEND;TZID=Europe/Berlin:20180729T180000
DTSTAMP:20260421T105827
CREATED:20180212T165125Z
LAST-MODIFIED:20180212T165125Z
UID:663-1532779200-1532887200@die-vertriebenen.com
SUMMARY:Bovelmarkt zu Bassum
DESCRIPTION:
URL:https://die-vertriebenen.com/event/bovelmarkt-zu-bassum/
LOCATION:An der Freudenburg\, Amtsfreiheit 1a\, Bassum\, 27211\, Deutschland
CATEGORIES:Mittelaltermarkt
END:VEVENT
BEGIN:VEVENT
DTSTART;TZID=Europe/Berlin:20180721T100000
DTEND;TZID=Europe/Berlin:20180722T190000
DTSTAMP:20260421T105827
CREATED:20180212T164722Z
LAST-MODIFIED:20180212T164722Z
UID:661-1532167200-1532286000@die-vertriebenen.com
SUMMARY:Historisches Schloss-Spectacel zu Winsen
DESCRIPTION:
URL:https://die-vertriebenen.com/event/historisches-schloss-spectacel-zu-winsen/
LOCATION:Schlossplatz\, Schlossplatz 11\, Winsen\, 21423 \, Deutschland
CATEGORIES:Mittelaltermarkt
END:VEVENT
END:VCALENDAR